BEGIN:VCALENDAR
PRODID:-//eluceo/ical//2.0/EN
VERSION:2.0
CALSCALE:GREGORIAN
BEGIN:VEVENT
UID:hbrs-event--75bd15f9-8907-4b71-b693-5467a72f136a
DTSTAMP:20260421T154304Z
LAST-MODIFIED:20250107T150414Z
SUMMARY:Gründungsstammtisch / Regular's Table
DESCRIPTION:Gründungsstammtisch / Regular's Table\nMore information at: ht
 tps://www.h-brs.de/en/gruenden-en/termin/stammtisch
DTSTART:20260513T170000
DTEND:20260513T190000
LOCATION:DIGITALHUB.de\, Am Hauptbahnhof 6\, 53111 Bonn
END:VEVENT
END:VCALENDAR
