BEGIN:VCALENDAR
PRODID:-//eluceo/ical//2.0/EN
VERSION:2.0
CALSCALE:GREGORIAN
BEGIN:VEVENT
UID:hbrs-event--9a59346f-b712-47ab-86a1-4846bbccfbfb
DTSTAMP:20260421T085154Z
LAST-MODIFIED:20260316T124406Z
SUMMARY:Lernen im Studium – mit Spaß und Erfolg
DESCRIPTION:Lernen im Studium – mit Spaß und Erfolg\nMore information at
 : https://www.h-brs.de/de/d5/termin/lernen-im-studium-mit-spass-und-erfolg
URL:https://www.h-brs.de/en/node/107521
DTSTART:20260527T160000
DTEND:20260527T173000
LOCATION:Webex
END:VEVENT
END:VCALENDAR
