BEGIN:VCALENDAR
PRODID:-//eluceo/ical//2.0/EN
VERSION:2.0
CALSCALE:GREGORIAN
BEGIN:VEVENT
UID:hbrs-event--e5cf539f-fabd-4309-96aa-84dbf45aa7db
DTSTAMP:20260421T141356Z
LAST-MODIFIED:20260311T095023Z
SUMMARY:1st Departmental Colloquium in the Summer Semester 2026
DESCRIPTION:1st Departmental Colloquium in the Summer Semester 2026\nMore i
 nformation at: https://www.h-brs.de/en/anna/event/1st-departmental-colloqu
 ium-summer-semester-2026
DTSTART:20260507T170000
DTEND:20260507T190000
LOCATION:Hochschule Bonn-Rhein-Sieg\, Campus Rheinbach\, von-Liebig-Str. 20
 \, Gebäude C Hörsaal 3\, 53359 Rheinbach
END:VEVENT
END:VCALENDAR
