BEGIN:VCALENDAR
PRODID:-//eluceo/ical//2.0/EN
VERSION:2.0
CALSCALE:GREGORIAN
BEGIN:VEVENT
UID:hbrs-event--03d9febe-fa5d-4e8b-8d26-353e7d8352c7
DTSTAMP:20260419T153817Z
LAST-MODIFIED:20260324T085536Z
SUMMARY: Schnupperstudium Nachhaltige Chemie und Materialien
DESCRIPTION: Schnupperstudium Nachhaltige Chemie und Materialien\nMore info
 rmation at: https://www.h-brs.de/de/anna/termin/schnupperstudium-nachhalti
 ge-chemie-und-materialien
DTSTART:20260408T085000
DTEND:20260408T153000
LOCATION:Hochschule Bonn-Rhein-Sieg\, Treffpunkt auf dem Campus Rheinbach v
 or Gebäude C an der von-Liebig-Str. 20\, 53359 Rheinbach
END:VEVENT
END:VCALENDAR
