BEGIN:VCALENDAR
PRODID:-//eluceo/ical//2.0/EN
VERSION:2.0
CALSCALE:GREGORIAN
BEGIN:VEVENT
UID:hbrs-event--a498345e-3bc3-4cde-8b2e-1bf734b6daa4
DTSTAMP:20260422T140340Z
LAST-MODIFIED:20260420T121822Z
SUMMARY:Codeshare Teaching and Learning Summer School 2026
DESCRIPTION:Codeshare Teaching and Learning Summer School 2026\nMore inform
 ation at: https://www.h-brs.de/de/wiwi/termin/codeshare-teaching-and-learn
 ing-summer-school-2026\n09:00 - 18:00
DTSTART;VALUE=DATE:20260810
DTEND;VALUE=DATE:20260829
LOCATION:Online
END:VEVENT
END:VCALENDAR
