BEGIN:VCALENDAR
PRODID:-//eluceo/ical//2.0/EN
VERSION:2.0
CALSCALE:GREGORIAN
BEGIN:VEVENT
UID:hbrs-event--88b27aec-76b4-450a-808a-deca4e601bfd
DTSTAMP:20260422T025048Z
LAST-MODIFIED:20260305T163614Z
SUMMARY:BibLounge: How to avoid plagiarism in scientific texts (in English)
DESCRIPTION:BibLounge: How to avoid plagiarism in scientific texts (in Engl
 ish)\nMore information at: https://www.h-brs.de/de/bib/termin/biblounge-ho
 w-avoid-plagiarism-scientific-texts-english
URL:https://h-brs.webex.com/meet/fachinfo
DTSTART:20260625T170000
DTEND:20260625T173000
LOCATION:Webex
END:VEVENT
END:VCALENDAR
