BEGIN:VCALENDAR
PRODID:-//eluceo/ical//2.0/EN
VERSION:2.0
CALSCALE:GREGORIAN
BEGIN:VEVENT
UID:hbrs-event--3e3b96f3-d21d-4ad3-9d6e-9a9f9d126d16
DTSTAMP:20260423T090305Z
LAST-MODIFIED:20260126T102337Z
SUMMARY:Kinderuni 2026: Schokolade im Dubai-Style - in aller Munde
DESCRIPTION:Kinderuni 2026: Schokolade im Dubai-Style - in aller Munde\nMor
 e information at: https://www.h-brs.de/de/kum/termin/kinderuni-schokoladen
 fabrik-2026
DTSTART:20260129T170000
DTEND:20260129T184500
LOCATION:Hochschule Bonn-Rhein-Sieg\, Raum A 037\, Grantham-Allee 20\, 5375
 7 Sankt Augustin
END:VEVENT
END:VCALENDAR
