BEGIN:VCALENDAR
PRODID:-//eluceo/ical//2.0/EN
VERSION:2.0
CALSCALE:GREGORIAN
BEGIN:VEVENT
UID:hbrs-event--db9a72fc-b617-4162-8756-c7785ef95978
DTSTAMP:20260423T161546Z
LAST-MODIFIED:20260319T103819Z
SUMMARY:H-BRS Graduation Ceremony 2026
DESCRIPTION:H-BRS Graduation Ceremony 2026\nMore information at: https://ww
 w.h-brs.de/en/kum/event/h-brs-graduation-ceremony-2026
DTSTART:20261024T133000
DTEND:20261024T220000
LOCATION:Telekom Dome\, Basketsring 1\, 53123 Bonn
END:VEVENT
END:VCALENDAR
