BEGIN:VCALENDAR
PRODID:-//eluceo/ical//2.0/EN
VERSION:2.0
CALSCALE:GREGORIAN
BEGIN:VEVENT
UID:hbrs-event--9a6fb4a4-e744-43ab-9084-8f8fe19f3a7c
DTSTAMP:20260421T085322Z
LAST-MODIFIED:20260209T152928Z
SUMMARY:Consultation day for prospective students: "Your way to university"
  at the Rheinbach Campus
DESCRIPTION:Consultation day for prospective students: "Your way to univers
 ity" at the Rheinbach Campus\nMore information at: https://www.h-brs.de/en
 /d5/event/consultation-day-prospective-students-your-way-university
DTSTART:20260401T093000
DTEND:20260401T141500
LOCATION:Campus Rheinbach
END:VEVENT
END:VCALENDAR
