BEGIN:VCALENDAR
PRODID:-//eluceo/ical//2.0/EN
VERSION:2.0
CALSCALE:GREGORIAN
BEGIN:VEVENT
UID:hbrs-event--f298d41f-7446-43c5-94d2-d66e6d3fce80
DTSTAMP:20260419T155046Z
LAST-MODIFIED:20260116T144424Z
SUMMARY:Consultation day for prospective students: "Your path to university
 " - at the Sankt Augustin campus
DESCRIPTION:Consultation day for prospective students: "Your path to univer
 sity" - at the Sankt Augustin campus\nMore information at: https://www.h-b
 rs.de/en/d5/termin/sprechtag-02-04-26
DTSTART:20260402T091500
DTEND:20260402T140000
LOCATION:Campus Sankt Augustin
END:VEVENT
END:VCALENDAR
