BEGIN:VCALENDAR
PRODID:-//eluceo/ical//2.0/EN
VERSION:2.0
CALSCALE:GREGORIAN
BEGIN:VEVENT
UID:hbrs-event--32a662c0-f25a-4371-9ee3-c18c425ce67e
DTSTAMP:20260421T164051Z
LAST-MODIFIED:20260305T163910Z
SUMMARY:BibLounge: SciFlow - einfach schreiben und publizieren
DESCRIPTION:BibLounge: SciFlow - einfach schreiben und publizieren\nMore in
 formation at: https://www.h-brs.de/de/bib/termin/biblounge-sciflow-einfach
 -schreiben-und-publizieren-2
URL:https://h-brs.webex.com/meet/fachinfo
DTSTART:20260526T170000
DTEND:20260526T173000
LOCATION:Webex
END:VEVENT
END:VCALENDAR
