BEGIN:VCALENDAR
PRODID:-//eluceo/ical//2.0/EN
VERSION:2.0
CALSCALE:GREGORIAN
BEGIN:VEVENT
UID:hbrs-event--fc2834fb-d2c2-47cb-a9c5-a98d79aac1e0
DTSTAMP:20260420T184849Z
LAST-MODIFIED:20260305T164134Z
SUMMARY:BibLounge: Literaturklatsch
DESCRIPTION:BibLounge: Literaturklatsch\nMore information at: https://www.h
 -brs.de/de/bib/termin/biblounge-literaturklatsch
URL:https://h-brs.webex.com/meet/fachinfo
DTSTART:20260507T170000
DTEND:20260507T173000
LOCATION:Webex
END:VEVENT
END:VCALENDAR
