BEGIN:VCALENDAR
PRODID:-//eluceo/ical//2.0/EN
VERSION:2.0
CALSCALE:GREGORIAN
BEGIN:VEVENT
UID:hbrs-event--457cf5fe-d580-44a8-9ee6-95a6b1eb2b88
DTSTAMP:20260424T041419Z
LAST-MODIFIED:20260312T101238Z
SUMMARY:Day Trip to Aachen
DESCRIPTION:Day Trip to Aachen\nMore information at: https://www.h-brs.de/e
 n/io/event/day-trip-aachen
DTSTART;VALUE=DATE:20260425
LOCATION:Aachen
END:VEVENT
END:VCALENDAR
