BEGIN:VCALENDAR
PRODID:-//eluceo/ical//2.0/EN
VERSION:2.0
CALSCALE:GREGORIAN
BEGIN:VEVENT
UID:hbrs-event--fd10b489-71d1-48a2-acdc-4464ea7e6663
DTSTAMP:20260423T134354Z
LAST-MODIFIED:20260206T160210Z
SUMMARY: Zu Gast auf dem Sofa: Dmitrij Kapitelman (Nachholtermin)
DESCRIPTION: Zu Gast auf dem Sofa: Dmitrij Kapitelman (Nachholtermin)\nMore
  information at: https://www.h-brs.de/de/bib/termin/zu-gast-auf-dem-sofa-d
 mitrij-kapitelman-nachholtermin
DTSTART:20260415T193000
DTEND:20260415T211500
LOCATION:Bibliothek Campus Sankt Augustin
END:VEVENT
END:VCALENDAR
