BEGIN:VCALENDAR
PRODID:-//eluceo/ical//2.0/EN
VERSION:2.0
CALSCALE:GREGORIAN
BEGIN:VEVENT
UID:hbrs-event--d17b417a-aed7-48ea-b8f3-7f7b272095f6
DTSTAMP:20260421T211540Z
LAST-MODIFIED:20260126T141504Z
SUMMARY:CytoTransport Research Retreat 2026
DESCRIPTION:CytoTransport Research Retreat 2026\nMore information at: https
 ://www.h-brs.de/de/ifga/termin/cytotransport-research-retreat-2026
DTSTART;VALUE=DATE:20260921
DTEND;VALUE=DATE:20260923
LOCATION:Museum Koenig\, Bonn
END:VEVENT
END:VCALENDAR
