BEGIN:VCALENDAR
PRODID:-//eluceo/ical//2.0/EN
VERSION:2.0
CALSCALE:GREGORIAN
BEGIN:VEVENT
UID:hbrs-event--153bf0e2-f1b9-4d61-961f-7c70a65e0885
DTSTAMP:20260423T043252Z
LAST-MODIFIED:20260105T093347Z
SUMMARY:Fachbereichsratssitzung im FB Informatik April 2026
DESCRIPTION:Fachbereichsratssitzung im FB Informatik April 2026\nMore infor
 mation at: https://www.h-brs.de/de/inf/termin/fachbereichsratssitzung-im-f
 b-informatik-april-2026
DTSTART:20260423T150000
DTEND:20260423T180000
LOCATION:Campus Sankt Augustin\, Raum A 102
END:VEVENT
END:VCALENDAR
