BEGIN:VCALENDAR
PRODID:-//eluceo/ical//2.0/EN
VERSION:2.0
CALSCALE:GREGORIAN
BEGIN:VEVENT
UID:hbrs-event--e734d3f1-5bef-4d7c-b50d-ea5d4fec0680
DTSTAMP:20260423T133426Z
LAST-MODIFIED:20260122T134134Z
SUMMARY:Start-up Spring School 2026
DESCRIPTION:Start-up Spring School 2026\nMore information at: https://www.h
 -brs.de/de/gruenden/termin/spring-school-2026\njeweils 10 bis 17 Uhr
DTSTART;VALUE=DATE:20260309
DTEND;VALUE=DATE:20260314
LOCATION:Brühler Straße 7 (Bonn) und Digitalhub am Bonner Hauptbahnhof
END:VEVENT
END:VCALENDAR
