BEGIN:VCALENDAR
PRODID:-//eluceo/ical//2.0/EN
VERSION:2.0
CALSCALE:GREGORIAN
BEGIN:VEVENT
UID:hbrs-event--3800c065-f0f9-4693-b18d-1b4a5c73ebdf
DTSTAMP:20260421T100133Z
LAST-MODIFIED:20260122T095957Z
SUMMARY:Christmas Party 2026 in the Department of Computer Science
DESCRIPTION:Christmas Party 2026 in the Department of Computer Science\nMor
 e information at: https://www.h-brs.de/en/inf/event/christmas-party-2026-d
 epartment-computer-science
DTSTART:20261203T170000
DTEND:20261203T220000
LOCATION:Campus Sankt Augustin\, Mensa
END:VEVENT
END:VCALENDAR
