BEGIN:VCALENDAR
PRODID:-//eluceo/ical//2.0/EN
VERSION:2.0
CALSCALE:GREGORIAN
BEGIN:VEVENT
UID:hbrs-event--f8871943-2d94-4515-8928-5401eb1530a2
DTSTAMP:20260421T180806Z
LAST-MODIFIED:20260126T102036Z
SUMMARY:Modul 2: Schwierige Gesprächssituationen - Teil 1
DESCRIPTION:Modul 2: Schwierige Gesprächssituationen - Teil 1\nMore inform
 ation at: https://www.h-brs.de/de/ziel/termin/modul-2-schwierige-gespraech
 ssituationen-teil-1
URL:https://lea.hochschule-bonn-rhein-sieg.de/goto.php/grp/1823860
DTSTART:20260413T130000
DTEND:20260413T163000
LOCATION:Online Meeting
END:VEVENT
END:VCALENDAR
