BEGIN:VCALENDAR
PRODID:-//eluceo/ical//2.0/EN
VERSION:2.0
CALSCALE:GREGORIAN
BEGIN:VEVENT
UID:hbrs-event--bf2a4bc2-5e2c-4095-ba05-30c26020ae09
DTSTAMP:20260421T164922Z
LAST-MODIFIED:20260126T101711Z
SUMMARY:Modul 2: Schwierige Gesprächssituationen - Teil 3
DESCRIPTION:Modul 2: Schwierige Gesprächssituationen - Teil 3\nMore inform
 ation at: https://www.h-brs.de/de/ziel/termin/modul-2-schwierige-gespraech
 ssituationen-teil-3
URL:https://lea.hochschule-bonn-rhein-sieg.de/goto.php/grp/1823860
DTSTART:20260427T130000
DTEND:20260427T163000
LOCATION:Online Meeting
END:VEVENT
END:VCALENDAR
