BEGIN:VCALENDAR
PRODID:-//eluceo/ical//2.0/EN
VERSION:2.0
CALSCALE:GREGORIAN
BEGIN:VEVENT
UID:hbrs-event--c6b2ca5a-d959-42b8-9d7e-1b561a5693f8
DTSTAMP:20260421T152131Z
LAST-MODIFIED:20260217T104752Z
SUMMARY:Zu Gast auf dem Sofa: Ulrike Herrmann
DESCRIPTION:Zu Gast auf dem Sofa: Ulrike Herrmann\nMore information at: htt
 ps://www.h-brs.de/de/bib/termin/zu-gast-auf-dem-sofa-ulrike-herrmann
DTSTART:20260527T193000
DTEND:20260527T211500
LOCATION:Bibliothek Campus Sankt Augustin
END:VEVENT
END:VCALENDAR
