BEGIN:VCALENDAR
PRODID:-//eluceo/ical//2.0/EN
VERSION:2.0
CALSCALE:GREGORIAN
BEGIN:VEVENT
UID:hbrs-event--9a5c6d46-af50-4c7a-a595-b9bf635a04b4
DTSTAMP:20260421T125732Z
LAST-MODIFIED:20260210T110629Z
SUMMARY:Welcoming the new students to the MAS degree programme for SoSe 202
 6
DESCRIPTION:Welcoming the new students to the MAS degree programme for SoSe
  2026\nMore information at: https://www.h-brs.de/en/inf/event/welcoming-ne
 w-students-mas-degree-programme-sose-2026
DTSTART:20260413T140000
DTEND:20260413T160000
LOCATION:Campus Sankt Augustin\, Raum A 102
END:VEVENT
END:VCALENDAR
