BEGIN:VCALENDAR
PRODID:-//eluceo/ical//2.0/EN
VERSION:2.0
CALSCALE:GREGORIAN
BEGIN:VEVENT
UID:hbrs-event--c1e1ac98-df00-47b9-8da8-7ea60c2d5cf2
DTSTAMP:20260419T202350Z
LAST-MODIFIED:20260217T150409Z
SUMMARY:Online-Infoveranstaltung zum Start-up-Cup 2026
DESCRIPTION:Online-Infoveranstaltung zum Start-up-Cup 2026\nMore informatio
 n at: https://www.h-brs.de/de/gruenden/termin/cup-infotermin
URL:https://www.h-brs.de/de/form/infoevent-start-up-cup
DTSTART:20260616T173000
DTEND:20260616T183000
LOCATION:online
END:VEVENT
END:VCALENDAR
