BEGIN:VCALENDAR
PRODID:-//eluceo/ical//2.0/EN
VERSION:2.0
CALSCALE:GREGORIAN
BEGIN:VEVENT
UID:hbrs-event--35a4d64d-13f9-4854-a1f5-ce44f8427458
DTSTAMP:20260421T083822Z
LAST-MODIFIED:20260317T081223Z
SUMMARY:Life Sciences Lunchtime Research Seminars - Summer Semester 2026
DESCRIPTION:Life Sciences Lunchtime Research Seminars - Summer Semester 202
 6\nMore information at: https://www.h-brs.de/en/anna/event/life-sciences-l
 unchtime-research-seminars-summer-semester-2026
DTSTART:20260421T114500
DTEND:20260421T123000
LOCATION:Hochschule Bonn-Rhein-Sieg\, Campus Rheinbach\, von-Liebig-Str. 20
 \, Gebäude C\, Hörsaal 3\, 53359 Rheinbach
END:VEVENT
END:VCALENDAR
