BEGIN:VCALENDAR
PRODID:-//eluceo/ical//2.0/EN
VERSION:2.0
CALSCALE:GREGORIAN
BEGIN:VEVENT
UID:hbrs-event--5bb82c17-2748-4dcf-8d45-54d75fc9a15d
DTSTAMP:20260422T025048Z
LAST-MODIFIED:20260224T083400Z
SUMMARY:Canva: Canva in Projekten mit Studierenden benutzen
DESCRIPTION:Canva: Canva in Projekten mit Studierenden benutzen\nMore infor
 mation at: https://www.h-brs.de/de/ziel/termin/canva-canva-projekten-mit-s
 tudierenden-benutzen
URL:https://lea.hochschule-bonn-rhein-sieg.de/goto.php/grp/1830458
DTSTART:20260624T140000
DTEND:20260624T160000
LOCATION:Videokonferenz
END:VEVENT
END:VCALENDAR
