BEGIN:VCALENDAR
PRODID:-//eluceo/ical//2.0/EN
VERSION:2.0
CALSCALE:GREGORIAN
BEGIN:VEVENT
UID:hbrs-event--d8dc545e-1b58-4d0f-8331-602607ec9d73
DTSTAMP:20260421T083656Z
LAST-MODIFIED:20260226T121244Z
SUMMARY:Kickstart Studium! Infos zu Bewerbung und Studienstart
DESCRIPTION:Kickstart Studium! Infos zu Bewerbung und Studienstart\nMore in
 formation at: https://www.h-brs.de/de/d5/termin/kickstart_30Juni26
URL:https://h-brs.webex.com/h-brs/j.php?MTID=m55892f373892f55c6519c57483440
 e3f
DTSTART:20260630T110000
DTEND:20260630T114500
LOCATION:online per webex
END:VEVENT
END:VCALENDAR
