BEGIN:VCALENDAR
PRODID:-//eluceo/ical//2.0/EN
VERSION:2.0
CALSCALE:GREGORIAN
BEGIN:VEVENT
UID:hbrs-event--ec922a42-e89a-420c-b057-4cb943d83b91
DTSTAMP:20260425T124214Z
LAST-MODIFIED:20260313T125324Z
SUMMARY:KickStart Studies! SPECIAL April - Bachelor International Business 
 (BSc)
DESCRIPTION:KickStart Studies! SPECIAL April - Bachelor International Busin
 ess (BSc)\nMore information at: https://www.h-brs.de/en/wiwi/event/kicksta
 rt-studies-special-april-bachelor-international-business-bsc
URL:https://h-brs.webex.com/h-brs/j.php?MTID=m2d98081ffbdf7961fed5259d8f2cd
 ade
DTSTART:20260407T160000
DTEND:20260407T164500
LOCATION:Online Info-Session via WebEx
END:VEVENT
END:VCALENDAR
