BEGIN:VCALENDAR
PRODID:-//eluceo/ical//2.0/EN
VERSION:2.0
CALSCALE:GREGORIAN
BEGIN:VEVENT
UID:hbrs-event--bb1daf5c-f2e8-42f6-9c3b-0c9fdc2bdc91
DTSTAMP:20260421T095942Z
LAST-MODIFIED:20260414T133110Z
SUMMARY:Male Allyship Workshop "What do I stand for?"
DESCRIPTION:Male Allyship Workshop "What do I stand for?"\nMore information
  at: https://www.h-brs.de/en/ho/event/male-allyship-workshop-what-do-i-sta
 nd
DTSTART:20260603T133000
DTEND:20260603T173000
LOCATION:St. Augustin\, Raum F239/240  
END:VEVENT
END:VCALENDAR
