BEGIN:VCALENDAR
PRODID:-//eluceo/ical//2.0/EN
VERSION:2.0
CALSCALE:GREGORIAN
BEGIN:VEVENT
UID:hbrs-event--20537315-697d-4a62-ab1d-b91fbc6edaf3
DTSTAMP:20260421T123557Z
LAST-MODIFIED:20260414T133325Z
SUMMARY:Male Allyship Workshop "What do I stand for?" .
DESCRIPTION:Male Allyship Workshop "What do I stand for?" .\nMore informati
 on at: https://www.h-brs.de/en/ho/event/male-allyship-workshop-what-do-i-s
 tand-0
DTSTART:20261006T093000
DTEND:20261006T133000
LOCATION:St. Augustin\, Raum F239/240  
END:VEVENT
END:VCALENDAR
