BEGIN:VCALENDAR
PRODID:-//eluceo/ical//2.0/EN
VERSION:2.0
CALSCALE:GREGORIAN
BEGIN:VEVENT
UID:hbrs-event--9f006327-8289-4681-8ad2-eb9088706aae
DTSTAMP:20260419T202425Z
LAST-MODIFIED:20260327T161549Z
SUMMARY:KickStart Studium! SPEZIAL - Betriebswirtschaft (B.Sc.)
DESCRIPTION:KickStart Studium! SPEZIAL - Betriebswirtschaft (B.Sc.)\nMore i
 nformation at: https://www.h-brs.de/de/wiwi/termin/kickstart-studium-spezi
 al-betriebswirtschaft-bsc-0
URL:https://h-brs.webex.com/h-brs/j.php?MTID=ma4c8f9d9d5f2dc0b88350d6ba2952
 e42
DTSTART:20260506T160000
DTEND:20260506T164500
LOCATION:Rheinbach und Sankt Augustin
END:VEVENT
END:VCALENDAR
