BEGIN:VCALENDAR
PRODID:-//eluceo/ical//2.0/EN
VERSION:2.0
CALSCALE:GREGORIAN
BEGIN:VEVENT
UID:hbrs-event--e56a1539-52d5-40b7-a478-7acb4206f523
DTSTAMP:20260424T041418Z
LAST-MODIFIED:20260402T140349Z
SUMMARY:1:1 Individual Counselling: Application Documents
DESCRIPTION:1:1 Individual Counselling: Application Documents\nMore informa
 tion at: https://www.h-brs.de/en/io/event/11-individual-counselling-applic
 ation-documents
DTSTART:20260430T140000
DTEND:20260430T190000
LOCATION:Campus Sankt Augustin (E221)
END:VEVENT
END:VCALENDAR
