BEGIN:VCALENDAR
PRODID:-//eluceo/ical//2.0/EN
VERSION:2.0
CALSCALE:GREGORIAN
BEGIN:VEVENT
UID:hbrs-event--d7de7539-c258-4e83-96b6-0aea9bdc4158
DTSTAMP:20260422T012756Z
LAST-MODIFIED:20260407T123336Z
SUMMARY:My Rights as a Student Employee in Germany
DESCRIPTION:My Rights as a Student Employee in Germany\nMore information at
 : https://www.h-brs.de/de/io/termin/my-rights-student-employee-germany
DTSTART:20260622T110000
DTEND:20260622T123000
LOCATION:Online
END:VEVENT
END:VCALENDAR
