BEGIN:VCALENDAR
PRODID:-//eluceo/ical//2.0/EN
VERSION:2.0
CALSCALE:GREGORIAN
BEGIN:VEVENT
UID:hbrs-event--8f76db7d-7efd-4425-ba07-2ada3555e610
DTSTAMP:20260422T024747Z
LAST-MODIFIED:20260407T130716Z
SUMMARY:How to Enter the German Job Market - A General Overview about the A
 pplication Procedure 
DESCRIPTION:How to Enter the German Job Market - A General Overview about t
 he Application Procedure \nMore information at: https://www.h-brs.de/en/io
 /event/how-enter-german-job-market-general-overview-about-application-proc
 edure
DTSTART:20260626T140000
DTEND:20260626T160000
LOCATION:Campus Sankt Augustin (G114)
END:VEVENT
END:VCALENDAR
