BEGIN:VCALENDAR
PRODID:-//eluceo/ical//2.0/EN
VERSION:2.0
CALSCALE:GREGORIAN
BEGIN:VEVENT
UID:hbrs-event--099787b4-2edb-47b7-a004-c674a2152edf
DTSTAMP:20260419T141556Z
LAST-MODIFIED:20260415T125848Z
SUMMARY:Exam Date: Oxford Test of English
DESCRIPTION:Exam Date: Oxford Test of English\nMore information at: https:/
 /www.h-brs.de/en/spz/event/exam-date-oxford-test-english
DTSTART:20260522T140000
DTEND:20260522T170000
LOCATION:Hochschule Bonn-Rhein-Sieg\, Campus Sankt Augustin\, Raum A104 und
  A108
END:VEVENT
END:VCALENDAR
