BEGIN:VCALENDAR
PRODID:-//eluceo/ical//2.0/EN
VERSION:2.0
CALSCALE:GREGORIAN
BEGIN:VEVENT
UID:hbrs-event--7f9adb02-c883-4bf3-a1f1-c1ce9a6aa9dd
DTSTAMP:20260422T070831Z
LAST-MODIFIED:20260416T120618Z
SUMMARY:Digitale Vereinbarkeitswoche
DESCRIPTION:Digitale Vereinbarkeitswoche\nMore information at: https://www.
 h-brs.de/de/gl/termin/digitale-vereinbarkeitswoche
URL:https://www.hnf-nrw.de/events2026
DTSTART;VALUE=DATE:20260518
DTEND;VALUE=DATE:20260523
LOCATION:Online Veranstaltungen
END:VEVENT
END:VCALENDAR
