BEGIN:VCALENDAR
PRODID:-//eluceo/ical//2.0/EN
VERSION:2.0
CALSCALE:GREGORIAN
BEGIN:VEVENT
UID:hbrs-event--35122f0e-7631-494d-83ef-1266c1f1fd59
DTSTAMP:20260421T162540Z
LAST-MODIFIED:20260421T084220Z
SUMMARY:Didaktisches Dessert: Coffee\, Cake & Community: Service Learning i
 n der Lehre
DESCRIPTION:Didaktisches Dessert: Coffee\, Cake & Community: Service Learni
 ng in der Lehre\nMore information at: https://www.h-brs.de/de/ziel/termin/
 didaktisches-dessert-coffee-cake-community-service-learning-der-lehre
DTSTART:20260512T123000
DTEND:20260512T140000
LOCATION:Campus Sankt Augustin\, Raum A163
END:VEVENT
END:VCALENDAR
