BEGIN:VCALENDAR
PRODID:-//eluceo/ical//2.0/EN
VERSION:2.0
CALSCALE:GREGORIAN
BEGIN:VEVENT
UID:hbrs-event--8738dabb-963a-4aac-a4ed-f8862de9af66
DTSTAMP:20260422T070832Z
LAST-MODIFIED:20260421T094931Z
SUMMARY:Workshop Gender Consultancy & BRS Motorsport e.V.
DESCRIPTION:Workshop Gender Consultancy & BRS Motorsport e.V.\nMore informa
 tion at: https://www.h-brs.de/de/gl/termin/workshop-gender-consultancy-brs
 -motorsport-ev
DTSTART:20260520T090000
DTEND:20260520T110000
LOCATION:H-BRS inhouse
END:VEVENT
END:VCALENDAR
