BEGIN:VCALENDAR
PRODID:-//eluceo/ical//2.0/EN
VERSION:2.0
CALSCALE:GREGORIAN
BEGIN:VEVENT
UID:hbrs-event--bb2562ea-53a9-48c9-91dc-8ff6b2bc1812
DTSTAMP:20260423T055855Z
LAST-MODIFIED:20260422T081638Z
SUMMARY:Einführungsveranstaltung zum Praxisprojekt BWI
DESCRIPTION:Einführungsveranstaltung zum Praxisprojekt BWI\nMore informati
 on at: https://www.h-brs.de/de/inf/termin/einfuehrungsveranstaltung-zum-pr
 axisprojekt-bwi
URL:https://lea.hochschule-bonn-rhein-sieg.de/goto.php/crs/174797
DTSTART:20260427T170000
DTEND:20260427T183000
LOCATION:Online über Webex\, Zugangsdaten auf LEA
END:VEVENT
END:VCALENDAR
